BEGIN:VCALENDAR
VERSION:2.0
PRODID:-//Kerstin Schult - eine von hier - ECPv6.15.20//NONSGML v1.0//EN
CALSCALE:GREGORIAN
METHOD:PUBLISH
X-ORIGINAL-URL:http://kerstin-schult.de
X-WR-CALDESC:Veranstaltungen für Kerstin Schult - eine von hier
REFRESH-INTERVAL;VALUE=DURATION:PT1H
X-Robots-Tag:noindex
X-PUBLISHED-TTL:PT1H
BEGIN:VTIMEZONE
TZID:UTC
BEGIN:STANDARD
TZOFFSETFROM:+0000
TZOFFSETTO:+0000
TZNAME:UTC
DTSTART:20250101T000000
END:STANDARD
END:VTIMEZONE
BEGIN:VEVENT
DTSTART;TZID=UTC:20260816T150000
DTEND;TZID=UTC:20260816T160000
DTSTAMP:20260420T061208
CREATED:20260223T132521Z
LAST-MODIFIED:20260223T133232Z
UID:178-1786892400-1786896000@kerstin-schult.de
SUMMARY:Kerstins Kinder-Kompass für Familien
DESCRIPTION:Zusätzlich zu Kerstin im Dialog lade ich Erstwähler\, Familien mit Kindern und Senioren zu eigenen Terminen ein. \nDiese Gruppen prägen unsere Samtgemeinde besonders: Junge Menschen bringen frische Ideen\, Familien wissen\, was Kinder brauchen\, und Senioren teilen wertvolle Erfahrung. \nBei Kerstins Kinder-Kompass für Familien möchte ich explizit Familien mit (kleinen) Kindern ansprechen\, um die Ansicht dieser Altersgruppe kennenzulernen. Auch auf Fragen von den kleinsten Mitbürgern freue ich mich!
URL:http://kerstin-schult.de/event/kerstins-kinder-kompass-fuer-familien/
LOCATION:Spielplatz Hüde\, Zum Fischerhafen 29\, Hüde\, 49448
CATEGORIES:Dialog Termine
END:VEVENT
BEGIN:VEVENT
DTSTART;TZID=UTC:20260820T183000
DTEND;TZID=UTC:20260820T200000
DTSTAMP:20260420T061208
CREATED:20260223T135244Z
LAST-MODIFIED:20260223T142055Z
UID:198-1787250600-1787256000@kerstin-schult.de
SUMMARY:Kerstin im Dialog - Quernheim
DESCRIPTION:Kerstin im Dialog ist für euch\, denn ihr seid die Samtgemeinde! \nKommt vorbei und bringt eure Fragen\, Ideen und Anliegen mit. \nIn entspannter Atmosphäre kommen wir ins Gespräch und tauschen uns aus.
URL:http://kerstin-schult.de/event/kerstin-im-dialog-quernheim/
LOCATION:Kino Fuchs\, Unter den Eichen 19\, Quernheim\, 49448
CATEGORIES:Dialog Termine
END:VEVENT
BEGIN:VEVENT
DTSTART;TZID=UTC:20260824T183000
DTEND;TZID=UTC:20260824T200000
DTSTAMP:20260420T061208
CREATED:20260223T135352Z
LAST-MODIFIED:20260224T113251Z
UID:200-1787596200-1787601600@kerstin-schult.de
SUMMARY:Kerstin im Dialog - Brockum
DESCRIPTION:Kerstin im Dialog ist für euch\, denn ihr seid die Samtgemeinde! \nKommt vorbei und bringt eure Fragen\, Ideen und Anliegen mit. \nIn entspannter Atmosphäre kommen wir ins Gespräch und tauschen uns aus.
URL:http://kerstin-schult.de/event/kerstin-im-dialog-brockum/
LOCATION:Dorfplatz Brockum\, bei der Bronzeskulptur zum Brockumer Markt\, Brockum\, 49448
CATEGORIES:Dialog Termine
END:VEVENT
END:VCALENDAR