BEGIN:VCALENDAR
VERSION:2.0
PRODID:-//Kerstin Schult - eine von hier - ECPv6.15.20//NONSGML v1.0//EN
CALSCALE:GREGORIAN
METHOD:PUBLISH
X-WR-CALNAME:Kerstin Schult - eine von hier
X-ORIGINAL-URL:http://kerstin-schult.de
X-WR-CALDESC:Veranstaltungen für Kerstin Schult - eine von hier
REFRESH-INTERVAL;VALUE=DURATION:PT1H
X-Robots-Tag:noindex
X-PUBLISHED-TTL:PT1H
BEGIN:VTIMEZONE
TZID:UTC
BEGIN:STANDARD
TZOFFSETFROM:+0000
TZOFFSETTO:+0000
TZNAME:UTC
DTSTART:20250101T000000
END:STANDARD
END:VTIMEZONE
BEGIN:VEVENT
DTSTART;TZID=UTC:20260601T150000
DTEND;TZID=UTC:20260601T160000
DTSTAMP:20260420T045027
CREATED:20260222T140649Z
LAST-MODIFIED:20260222T140649Z
UID:169-1780326000-1780329600@kerstin-schult.de
SUMMARY:Klönen mit Kerstin - für Senioren
DESCRIPTION:Zusätzlich zu Kerstin im Dialog lade ich Erstwähler\, Familien mit Kindern und Senioren zu eigenen Terminen ein. \nDiese Gruppen prägen unsere Samtgemeinde besonders: Junge Menschen bringen frische Ideen\, Familien wissen\, was Kinder brauchen\, und Senioren teilen wertvolle Erfahrung. \nBei Klönen mit Kerstin möchte ich explizit Leute ab 65 ansprechen\, die Ihre Erfahrung einbringen können.
URL:http://kerstin-schult.de/event/kloenen-mit-kerstin-fuer-senioren/
LOCATION:Mutterhaus Lemförde\, Gästehaus Vandsburg\, Hauptstraße 167\, Lemförde\, 49448
CATEGORIES:Dialog Termine
END:VEVENT
END:VCALENDAR